BEGIN:VCALENDAR
VERSION:2.0
PRODID:-//Tukios.com/
BEGIN:VEVENT
UID:aed5e8d8-d55c-4720-b05b-4f4b13e0fc81@www.gamblefuneralservice.com
DTSTAMP:20260420T163958Z
DTSTART:20260423T180000Z
DTEND:20260423T190000Z
SUMMARY:Burial
DESCRIPTION:
URL:https://www.gamblefuneralservice.com/obituaries/msgt-ret-donald-rondeau
LOCATION: 1601 Boundary Street  Beaufort SC 29902
GEO:32.4396738;-80.6795591
END:VEVENT
END:VCALENDAR