BEGIN:VCALENDAR
VERSION:2.0
PRODID:-//Tukios.com/
BEGIN:VEVENT
UID:ab523759-27b0-4a0e-9f8c-f0636e641a16@www.gamblefuneralservice.com
DTSTAMP:20260420T163712Z
DTSTART:20260423T150000Z
DTEND:20260423T160000Z
SUMMARY:Mass
DESCRIPTION:
URL:https://www.gamblefuneralservice.com/obituaries/msgt-ret-donald-rondeau
LOCATION: 11500 Middleground Road  Savannah GA 31419
GEO:31.9883964;-81.1564097
END:VEVENT
END:VCALENDAR