BEGIN:VCALENDAR
VERSION:2.0
PRODID:-//Tukios.com/
BEGIN:VEVENT
UID:ece4e132-6219-43bd-8ebd-404166a4b621@www.gamblefuneralservice.com
DTSTAMP:20260420T163840Z
DTSTART:20260422T220000Z
DTEND:20260422T230000Z
SUMMARY:Visitation
DESCRIPTION:
URL:https://www.gamblefuneralservice.com/obituaries/msgt-ret-donald-rondeau
LOCATION: 410 Stephenson Ave  Savannah GA 31405
GEO:32.0124452;-81.1063347
END:VEVENT
END:VCALENDAR